BEGIN:VCALENDAR
VERSION:2.0
PRODID:-//wp-events-plugin.com//7.2.3.1//EN
TZID:Europe/London
X-WR-TIMEZONE:Europe/London
BEGIN:VEVENT
UID:28@londongays.co.uk
DTSTART;TZID=Europe/London:20260208T150000
DTEND;TZID=Europe/London:20260208T180000
DTSTAMP:20260128T153424Z
URL:https://londongays.co.uk/events/london-gays-sunday-social-8-feb/
SUMMARY:London Gays Sunday Social (8 FEB)
DESCRIPTION:Come and join over 70 gay guys for our February meetup at the D
 uke of Wellington. It's on a Sunday this month.\n\n 	The event is fully ho
 sted and attracts a mix of singles\, couples and gay mates of all ages and
  backgrounds.\n 	We are removing the mandatory entrance charge in favour o
 f a pay what you can donation of £1-3\n 	Win a FREE DRINK.\n 	We also hav
 e an exclusive 10% OFF ALL DRINKS at our meetup.\n 	We have the whole of 
 the 1st floor bar so don't worry about not being able to find us.\n 	We st
 art at 3pm.\n\nLooking forward to seeing you!
LOCATION:Duke of Wellington\, 77 Wardour Street\, London\, W1D 7QA\, United
  Kingdom
X-APPLE-STRUCTURED-LOCATION;VALUE=URI;X-ADDRESS=77 Wardour Street\, London\
 , W1D 7QA\, United Kingdom;X-APPLE-RADIUS=100;X-TITLE=Duke of Wellington:g
 eo:0,0
END:VEVENT
BEGIN:VTIMEZONE
TZID:Europe/London
X-LIC-LOCATION:Europe/London
BEGIN:STANDARD
DTSTART:20251026T010000
TZOFFSETFROM:+0100
TZOFFSETTO:+0000
TZNAME:GMT
END:STANDARD
END:VTIMEZONE
END:VCALENDAR